BEGIN:VCALENDAR
VERSION:2.0
PRODID:-//BSC School - ECPv6.15.17//NONSGML v1.0//EN
CALSCALE:GREGORIAN
METHOD:PUBLISH
X-WR-CALNAME:BSC School
X-ORIGINAL-URL:https://bscschool.pl
X-WR-CALDESC:Wydarzenia dla BSC School
REFRESH-INTERVAL;VALUE=DURATION:PT1H
X-Robots-Tag:noindex
X-PUBLISHED-TTL:PT1H
BEGIN:VTIMEZONE
TZID:UTC
BEGIN:STANDARD
TZOFFSETFROM:+0000
TZOFFSETTO:+0000
TZNAME:UTC
DTSTART:20250101T000000
END:STANDARD
END:VTIMEZONE
BEGIN:VEVENT
DTSTART;VALUE=DATE:20260430
DTEND;VALUE=DATE:20260504
DTSTAMP:20260421T172651
CREATED:20251211T095205Z
LAST-MODIFIED:20251211T095346Z
UID:3615-1777507200-1777852799@bscschool.pl
SUMMARY:BSC School Bikejoring Camp z Pauliną Frelich
DESCRIPTION:tekst
URL:https://bscschool.pl/?tribe_events=bsc-school-bikejoring-camp-z-paulina-frelich
CATEGORIES:Obozy Treningowe
ATTACH;FMTTYPE=image/jpeg:https://bscschool.pl/wp-content/uploads/2025/12/597683397_32836479922664151_5584903999805409679_n.jpg
END:VEVENT
END:VCALENDAR